BEGIN:VCALENDAR
VERSION:2.0
PRODID:-//Clinical Outcomes Group, Inc. - ECPv5.3.0//NONSGML v1.0//EN
CALSCALE:GREGORIAN
METHOD:PUBLISH
X-WR-CALNAME:Clinical Outcomes Group, Inc.
X-ORIGINAL-URL:https://www.coginc.org
X-WR-CALDESC:Events for Clinical Outcomes Group, Inc.
BEGIN:VTIMEZONE
TZID:America/New_York
BEGIN:DAYLIGHT
TZOFFSETFROM:-0500
TZOFFSETTO:-0400
TZNAME:EDT
DTSTART:20210314T070000
END:DAYLIGHT
BEGIN:STANDARD
TZOFFSETFROM:-0400
TZOFFSETTO:-0500
TZNAME:EST
DTSTART:20211107T060000
END:STANDARD
END:VTIMEZONE
BEGIN:VEVENT
DTSTART;VALUE=DATE:20210514
DTEND;VALUE=DATE:20210515
DTSTAMP:20260421T050324
CREATED:20210426T153218Z
LAST-MODIFIED:20210426T153218Z
UID:901-1620950400-1621036799@www.coginc.org
SUMMARY:Schuylkill Gives
DESCRIPTION:Join Schuylkill Gives on May 14\, 2021 and support COGI!   \nWe are raising funds for our Summer Prevention / Education Kids Camp.
URL:https://www.coginc.org/event/schuylkill-gives/
CATEGORIES:Fundraising
END:VEVENT
BEGIN:VEVENT
DTSTART;TZID=America/New_York:20210604T080000
DTEND;TZID=America/New_York:20210604T163000
DTSTAMP:20260421T050324
CREATED:20210426T154115Z
LAST-MODIFIED:20210426T154115Z
UID:903-1622793600-1622824200@www.coginc.org
SUMMARY:COGI R&K Sub Orders Due
DESCRIPTION:All orders must be submitted to Kelly Examitas \nEmail:   kexamitas@coginc.org \nFax:  570-628-5899
URL:https://www.coginc.org/event/cogi-rk-sub-orders-due/
CATEGORIES:Fundraising
END:VEVENT
END:VCALENDAR